BEGIN:VCALENDAR
VERSION:2.0
PRODID:-//ChamberMaster//Event Calendar 2.0//EN
METHOD:PUBLISH
X-PUBLISHED-TTL:P3D
REFRESH-INTERVAL:P3D
CALSCALE:GREGORIAN
BEGIN:VEVENT
DTSTART:20151126T130000Z
DTEND:20151126T130000Z
X-MICROSOFT-CDO-ALLDAYEVENT:FALSE
SUMMARY:FLAC's Turkey Trot
DESCRIPTION:FLAC is hosting their Annual Thanksgiving Day Turkey Trot. Pre-Registration is allowed until November 10th (Free T-shirt when you pre-register\, not guaranteed the day of) otherwise it will be the day of the event. All Races start at 8:00am. You can visit www.4flac.com and print off a Registration or go to www.active.com.\n\nRace Day Registration 7:00am-7:45am
X-ALT-DESC;FMTTYPE=text/html:FLAC is hosting their Annual Thanksgiving Day Turkey Trot. Pre-Registration is allowed until November 10th (Free T-shirt when you pre-register\, not guaranteed the day of) otherwise it will be the day of the event. All Races start at 8:00am. You can visit www.4flac.com and print off a Registration or go to www.active.com.<br />\nRace Day Registration 7:00am-7:45am<br />\n&nbsp\;
LOCATION:Race Begins @ FLAC Four Lakes Athletic Club 351 East Morrissy Dr Elkhorn\, WI 53121
UID:e.2059.1817
SEQUENCE:3
DTSTAMP:20260424T112051Z
URL:https://business.elkhornchamber.com/events/details/flac-s-turkey-trot-11-26-2015-1817
END:VEVENT

END:VCALENDAR
