BEGIN:VCALENDAR
VERSION:2.0
PRODID:-//ChamberMaster//Event Calendar 2.0//EN
METHOD:PUBLISH
X-PUBLISHED-TTL:P3D
REFRESH-INTERVAL:P3D
CALSCALE:GREGORIAN
BEGIN:VEVENT
DTSTART:20160923T220000Z
DTEND:20160924T010000Z
X-MICROSOFT-CDO-ALLDAYEVENT:FALSE
SUMMARY:FishFest Fundraiser
DESCRIPTION:Fish boil dinner with boiled fish\, potatoes\, and onions. Assorted breads\, Homemade desserts and a 50/50 raffle. Cost is $12 at the door $6 for children's portions.
X-ALT-DESC;FMTTYPE=text/html:Fish boil dinner with boiled fish\, potatoes\, and onions. Assorted breads\, Homemade desserts and a 50/50 raffle. Cost is $12 at the door $6 for children&#39\;s portions.
LOCATION:UU Church of the Lakes 319 N Broad Elkhorn\, WI
UID:e.2059.4512
SEQUENCE:3
DTSTAMP:20260423T202052Z
URL:https://business.elkhornchamber.com/events/details/fishfest-fundraiser-4512
END:VEVENT

END:VCALENDAR
