BEGIN:VCALENDAR
VERSION:2.0
PRODID:-//ChamberMaster//Event Calendar 2.0//EN
METHOD:PUBLISH
X-PUBLISHED-TTL:P3D
REFRESH-INTERVAL:P3D
CALSCALE:GREGORIAN
BEGIN:VEVENT
DTSTART:20160923T220000Z
DTEND:20160924T010000Z
X-MICROSOFT-CDO-ALLDAYEVENT:FALSE
SUMMARY:Fishfest
DESCRIPTION:Fish boil dinner with boiled fish\, potatoes\, and onions. Assorted breads\, Homemade desserts and a 50/50 raffle. Cost is $12 at the door $6 for children's portions.
X-ALT-DESC;FMTTYPE=text/html:Fish boil dinner with boiled fish\, potatoes\, and onions. Assorted breads\, Homemade desserts and a 50/50 raffle. Cost is $12 at the door $6 for children&#39\;s portions.
LOCATION:UU Church of the Lakes
UID:e.2059.4511
SEQUENCE:3
DTSTAMP:20260423T202345Z
URL:https://business.elkhornchamber.com/events/details/fishfest-09-23-2016-4511
END:VEVENT

END:VCALENDAR
