BEGIN:VCALENDAR
VERSION:2.0
PRODID:-//ChamberMaster//Event Calendar 2.0//EN
METHOD:PUBLISH
X-PUBLISHED-TTL:P3D
REFRESH-INTERVAL:P3D
CALSCALE:GREGORIAN
BEGIN:VEVENT
DTSTART:20170526T213000Z
DTEND:20170527T003000Z
X-MICROSOFT-CDO-ALLDAYEVENT:FALSE
SUMMARY:Fish Fry Fridays at Lutherdale
DESCRIPTION:Fish Fry Fridays at Lutherdale 2017 Dates\n\n\n\nMenu will include: Baked or Lager Battered Cod\, House made Potato Pancakes\, Cole Slaw\, House made Clam Chowder\, Bread & Butter\, House made Applesauce\, Beverage and Fresh Baked Dessert.\n\n**A special traditional Fish Fry August 11th~ Quilt Preview for Lutherdale Fest Auction\n\nTravel to www.lutherdale.org for more infomation.
X-ALT-DESC;FMTTYPE=text/html:Fish Fry Fridays at Lutherdale 2017 Dates<br>\n<br>\nMenu will include: Baked or Lager Battered Cod\, House made Potato Pancakes\, Cole Slaw\, House made Clam Chowder\, Bread &amp\; Butter\, House made Applesauce\, Beverage and Fresh Baked Dessert.<br>\n**A special traditional Fish Fry August 11th~ Quilt Preview for Lutherdale Fest Auction<br>\nTravel to www.lutherdale.org for more infomation.<br>\n&nbsp\;
LOCATION:Lutherdale N7891 US Highway 12 Elkhorn\,WI 53121
UID:e.2059.5033
SEQUENCE:3
DTSTAMP:20260423T061505Z
URL:https://business.elkhornchamber.com/events/details/fish-fry-fridays-at-lutherdale-05-26-2017-5033
END:VEVENT

END:VCALENDAR
