BEGIN:VCALENDAR
VERSION:2.0
PRODID:-//ChamberMaster//Event Calendar 2.0//EN
METHOD:PUBLISH
X-PUBLISHED-TTL:P3D
REFRESH-INTERVAL:P3D
CALSCALE:GREGORIAN
BEGIN:VEVENT
DTSTART:20170224T223000Z
DTEND:20170225T013000Z
X-MICROSOFT-CDO-ALLDAYEVENT:FALSE
SUMMARY:Fish Fry Fridays at Lutherdale
DESCRIPTION:2016 dates for Lutherdale's Friday Fish Fry's. Each event will also feature a specialty fish choice. Menu will include: Traditional baked or fried cod\, housemade potato pancakes\, cole slaw\, housemade clam chowder\, bread & butter\, housemade applesauce\, beverages and fresh baked dessert. Reservations suggested for groups of 8 or more. Special Traditional fish fry August 12th with a quilt preview for Lutherdle Fest Auction.
X-ALT-DESC;FMTTYPE=text/html:2016 dates for Lutherdale's Friday Fish Fry's. Each event will also feature a specialty fish choice. Menu will include: Traditional baked or fried cod\, housemade potato pancakes\, cole slaw\, housemade clam chowder\, bread &amp\; butter\, housemade applesauce\, beverages and fresh baked dessert. Reservations suggested for groups of 8 or more. Special Traditional fish fry August 12th with a quilt preview for Lutherdle Fest Auction.
LOCATION:Lutherdale N7891 US Hwy 12 Elkhorn\, WI 53121
UID:e.2059.1974
SEQUENCE:3
DTSTAMP:20260423T112509Z
URL:https://business.elkhornchamber.com/events/details/fish-fry-fridays-at-lutherdale-02-24-2017-1974
END:VEVENT

END:VCALENDAR
