BEGIN:VCALENDAR
VERSION:2.0
PRODID:-//ChamberMaster//Event Calendar 2.0//EN
METHOD:PUBLISH
X-PUBLISHED-TTL:P3D
REFRESH-INTERVAL:P3D
CALSCALE:GREGORIAN
BEGIN:VEVENT
DTSTART:20140926T213000Z
DTEND:20140927T003000Z
X-MICROSOFT-CDO-ALLDAYEVENT:FALSE
SUMMARY:Fish Fry at Lutherdale
DESCRIPTION:Menu will include traditional baked or fried cod\, choice of potato\, cole slaw\, bread & butter\, applesauce\, beverage and dessert.
X-ALT-DESC;FMTTYPE=text/html:Menu will include traditional baked or fried cod\, choice of potato\, cole slaw\, bread &amp\; butter\, applesauce\, beverage and dessert.
LOCATION:Lutherdale Ministries N7891 Hwy 12\, Elkhorn
UID:e.2059.289
SEQUENCE:3
DTSTAMP:20260425T122313Z
URL:https://business.elkhornchamber.com/events/details/fish-fry-at-lutherdale-09-26-2014-289
END:VEVENT

END:VCALENDAR
