BEGIN:VCALENDAR
VERSION:2.0
PRODID:-//ChamberMaster//Event Calendar 2.0//EN
METHOD:PUBLISH
X-PUBLISHED-TTL:P3D
REFRESH-INTERVAL:P3D
CALSCALE:GREGORIAN
BEGIN:VEVENT
DTSTART;VALUE=DATE:20170905
DTEND;VALUE=DATE:20170906
TRANSP:TRANSPARENT
X-MICROSOFT-CDO-ALLDAYEVENT:TRUE
SUMMARY:First day of classes for EASD 2017-18 School Year
DESCRIPTION:
X-ALT-DESC;FMTTYPE=text/html:
LOCATION:
UID:e.2059.5504
SEQUENCE:3
DTSTAMP:20260422T214410Z
URL:https://business.elkhornchamber.com/events/details/first-day-of-classes-for-easd-2017-18-school-year-5504
END:VEVENT

END:VCALENDAR
