BEGIN:VCALENDAR
VERSION:2.0
PRODID:-//ChamberMaster//Event Calendar 2.0//EN
METHOD:PUBLISH
X-PUBLISHED-TTL:P3D
REFRESH-INTERVAL:P3D
CALSCALE:GREGORIAN
BEGIN:VEVENT
DTSTART:20170804T130000Z
DTEND:20170804T210000Z
X-MICROSOFT-CDO-ALLDAYEVENT:FALSE
SUMMARY:First Congregational UCC Church Annual Rummage Sale
DESCRIPTION:
X-ALT-DESC;FMTTYPE=text/html:
LOCATION:76 S. Wisconsin Street\, Elkhorn\, WI 53121
UID:e.2059.5492
SEQUENCE:3
DTSTAMP:20260422T233455Z
URL:https://business.elkhornchamber.com/events/details/first-congregational-ucc-church-annual-rummage-sale-5492
END:VEVENT

END:VCALENDAR
