BEGIN:VCALENDAR
VERSION:2.0
PRODID:-//ChamberMaster//Event Calendar 2.0//EN
METHOD:PUBLISH
X-PUBLISHED-TTL:P3D
REFRESH-INTERVAL:P3D
CALSCALE:GREGORIAN
BEGIN:VEVENT
DTSTART:20151117T153000Z
DTEND:20151117T180000Z
X-MICROSOFT-CDO-ALLDAYEVENT:FALSE
SUMMARY:Film Screening & Program:Very Young Girls
DESCRIPTION:Very Young Girls is a critically acclaimed film expose of human trafficking that follows young teen girls as they are seduced\, abused\, and sold on New York's streets by pimps\, and treated as adult criminals by the justice system. The film follows the girls through the GEMS program survivor and recovery program founded by human trafficking survivor Rachel Lloyd. Unprecedented access to girls and pimps will change the way law enforcement\, the media\, and society as a whole look at sexual exploitation and human trafficking that is happening right in our own backyard. Hosted by Open Arms Free Clinic.
X-ALT-DESC;FMTTYPE=text/html:Very Young Girls is a critically acclaimed film expose of human trafficking that follows young teen girls as they are seduced\, abused\, and sold on New York&#39\;s streets by pimps\, and treated as adult criminals by the justice system. The film follows the girls through the GEMS program survivor and recovery program founded by human trafficking survivor Rachel Lloyd. Unprecedented access to girls and pimps will change the way law enforcement\, the media\, and society as a whole look at sexual exploitation and human trafficking that is happening right in our own backyard. Hosted by Open Arms Free Clinic.
LOCATION:Walworth County Government Center 100 W. Walworth Ave Elkhorn\, WI 53121
UID:e.2059.1833
SEQUENCE:3
DTSTAMP:20260424T112419Z
URL:https://business.elkhornchamber.com/events/details/film-screening-program-very-young-girls-11-17-2015-1833
END:VEVENT

END:VCALENDAR
