BEGIN:VCALENDAR
VERSION:2.0
PRODID:-//ChamberMaster//Event Calendar 2.0//EN
METHOD:PUBLISH
X-PUBLISHED-TTL:P3D
REFRESH-INTERVAL:P3D
CALSCALE:GREGORIAN
BEGIN:VEVENT
DTSTART;VALUE=DATE:20140726
DTEND;VALUE=DATE:20140727
TRANSP:TRANSPARENT
X-MICROSOFT-CDO-ALLDAYEVENT:TRUE
SUMMARY:Festival of Summer & Maxwell Street Days
DESCRIPTION:Enjoy the sounds\, smells and tastes of summer! Support the Elkhorn Rotary Club Saturday\, July 26 that their pancake breakfast in the morning or by getting some delicious brats\, burgers and roasted corn in the afternoon and evening. Stick around Saturday night for the Rotary Beer Tent and enjoy live music from local bands. Walk around and do a little shopping with the many crafters and vendors that line the square. The kids will have plenty to keep them occupied with all the activities available such as bounce houses\, slides and more. Sit back and relax while you enjoy different entertainment on the community stage including performances from local groups such as the AKF Flying Dragons\, Essential Yoga\, Toe to Toe Ballet and the Senior Idol Competition. Also on the community stage will be the finals for the Walworth County Fair Junior Amateur Talent Competition featuring kids age 2-18 performing dance\, vocal\, instrumental and other talents. Winners will advance to the Wisconsin State Fair Competition. We even have race enthusiasts covered with the Festival of Summer Bike Ride with rides anywhere from 10 ? 100 miles\, and the Run United 5 mile Run and 2 mile Run/Walk that all start in the morning at Veterans Park in the downtown square.
X-ALT-DESC;FMTTYPE=text/html:Enjoy the sounds\, smells and tastes of summer! Support the Elkhorn Rotary Club Saturday\, July 26 that their pancake breakfast in the morning or by getting some delicious brats\, burgers and roasted corn in the afternoon and evening. Stick around Saturday night for the Rotary Beer Tent and enjoy live music from local bands. Walk around and do a little shopping with the many crafters and vendors that line the square. The kids will have plenty to keep them occupied with all the activities available such as bounce houses\, slides and more. Sit back and relax while you enjoy different entertainment on the community stage including performances from local groups such as the AKF Flying Dragons\, Essential Yoga\, Toe to Toe Ballet and the Senior Idol Competition. Also on the community stage will be the finals for the Walworth County Fair Junior Amateur Talent Competition featuring kids age 2-18 performing dance\, vocal\, instrumental and other talents. Winners will advance to the Wisconsin State Fair Competition. We even have race enthusiasts covered with the Festival of Summer Bike Ride with rides anywhere from 10 ? 100 miles\, and the Run United 5 mile Run and 2 mile Run/Walk that all start in the morning at Veterans Park in the downtown square.
LOCATION:Veterans Park 100 W. Walworth St. Downtown Elkhorn
UID:e.2059.121
SEQUENCE:3
DTSTAMP:20260425T152308Z
URL:https://business.elkhornchamber.com/events/details/festival-of-summer-maxwell-street-days-07-26-2014-121
END:VEVENT

END:VCALENDAR
