BEGIN:VCALENDAR
VERSION:2.0
PRODID:-//ChamberMaster//Event Calendar 2.0//EN
METHOD:PUBLISH
X-PUBLISHED-TTL:P3D
REFRESH-INTERVAL:P3D
CALSCALE:GREGORIAN
BEGIN:VEVENT
DTSTART:20140726T130000Z
DTEND:20140726T190000Z
X-MICROSOFT-CDO-ALLDAYEVENT:FALSE
SUMMARY:Festival of Summer Bike Ride
DESCRIPTION:Routes for all levels of riders from 10-100 miles starting at Veterans Park in downtown Elkhorn. There are 3 rest stops located in Elkhorn\, Delavan and Lyons. These stops will be stocked with supplies to keep you fueled until you return to Elkhorn where you can relax and chow down. Pre-Registration (postmarked by 7/1/14) includes a meal ticket and t-shirt. Late or day of registration includes a meal ticket only.
X-ALT-DESC;FMTTYPE=text/html:Routes for all levels of riders from 10-100 miles starting at Veterans Park in downtown Elkhorn. There are 3 rest stops located in Elkhorn\, Delavan and Lyons. These stops will be stocked with supplies to keep you fueled until you return to Elkhorn where you can relax and chow down. Pre-Registration (postmarked by 7/1/14) includes a meal ticket and t-shirt. Late or day of registration includes a meal ticket only.
LOCATION:Registration and start at Veterans Park downtown Elkhorn.
UID:e.2059.119
SEQUENCE:3
DTSTAMP:20260425T152351Z
URL:https://business.elkhornchamber.com/events/details/festival-of-summer-bike-ride-07-26-2014-119
END:VEVENT

END:VCALENDAR
