BEGIN:VCALENDAR
VERSION:2.0
PRODID:-//ChamberMaster//Event Calendar 2.0//EN
METHOD:PUBLISH
X-PUBLISHED-TTL:P3D
REFRESH-INTERVAL:P3D
CALSCALE:GREGORIAN
BEGIN:VEVENT
DTSTART:20150621T140000Z
DTEND:20150621T180000Z
X-MICROSOFT-CDO-ALLDAYEVENT:FALSE
SUMMARY:Father's Day Breakfast at the Grist Mill
DESCRIPTION:Father's Day Buffet Details
X-ALT-DESC;FMTTYPE=text/html:<a href="http://easttroygristmill.com/fathers-day-breakfast-menu/">Father&#39\;s Day Buffet Details</a><br />\n<br />\n&nbsp\;
LOCATION:The Grist Mill 2645 Main Street East Troy\, WI
UID:e.2059.1607
SEQUENCE:3
DTSTAMP:20260424T192721Z
URL:https://business.elkhornchamber.com/events/details/father-s-day-breakfast-at-the-grist-mill-06-21-2015-1607
END:VEVENT

END:VCALENDAR
