BEGIN:VCALENDAR
VERSION:2.0
PRODID:-//ChamberMaster//Event Calendar 2.0//EN
METHOD:PUBLISH
X-PUBLISHED-TTL:P3D
REFRESH-INTERVAL:P3D
CALSCALE:GREGORIAN
BEGIN:VEVENT
DTSTART:20180915T130000Z
DTEND:20180915T173000Z
X-MICROSOFT-CDO-ALLDAYEVENT:FALSE
SUMMARY:Farmer's Market on the Square
DESCRIPTION:Come enjoy Elkhorn's Farm Market - with fresh produce and artisan vendors.  All products are locally grown and made. Located in Veteran's Park\, downtown Elkhorn
X-ALT-DESC;FMTTYPE=text/html:<span style="color: rgb(0\, 0\, 0)\; font-family: Montserrat\, sans-serif\; font-size: 17px\; background-color: rgb(254\, 254\, 254)\;">Come enjoy Elkhorn&#39\;s Farm&nbsp\;Market - with fresh produce and artisan vendors. &nbsp\;All products are locally grown and made. Located in Veteran&#39\;s Park\, downtown Elkhorn</span>
LOCATION:Veteran's Park on the Square\, Downtown Elkhorn
UID:e.2059.9434
SEQUENCE:3
DTSTAMP:20260422T021412Z
URL:https://business.elkhornchamber.com/events/details/farmer-s-market-on-the-square-09-15-2018-9434
END:VEVENT

END:VCALENDAR
