BEGIN:VCALENDAR
VERSION:2.0
PRODID:-//ChamberMaster//Event Calendar 2.0//EN
METHOD:PUBLISH
X-PUBLISHED-TTL:P3D
REFRESH-INTERVAL:P3D
CALSCALE:GREGORIAN
BEGIN:VEVENT
DTSTART:20170924T210000Z
DTEND:20170925T030000Z
X-MICROSOFT-CDO-ALLDAYEVENT:FALSE
SUMMARY:Farm to Table
DESCRIPTION:Charity benefit for Open Arms Free Clinic. Food from local growers masterfully assembled by Chef Charlie of Celebrations Catering. Tickets are $150/per person includes food\, beer/wine\, and live music by Noah John and the Ringing Irons.
X-ALT-DESC;FMTTYPE=text/html:Charity benefit for Open Arms Free Clinic. Food from local growers masterfully assembled by Chef Charlie of Celebrations Catering. Tickets are $150/per person includes food\, beer/wine\, and live music by Noah John and the Ringing Irons.
LOCATION:Boxed and Burlap
UID:e.2059.6077
SEQUENCE:3
DTSTAMP:20260422T213933Z
URL:https://business.elkhornchamber.com/events/details/farm-to-table-6077
END:VEVENT

END:VCALENDAR
