BEGIN:VCALENDAR
VERSION:2.0
PRODID:-//ChamberMaster//Event Calendar 2.0//EN
METHOD:PUBLISH
X-PUBLISHED-TTL:P3D
REFRESH-INTERVAL:P3D
CALSCALE:GREGORIAN
BEGIN:VEVENT
DTSTART:20181020T160000Z
DTEND:20181020T170000Z
X-MICROSOFT-CDO-ALLDAYEVENT:FALSE
SUMMARY:Family Yoga with a Hallowe'en Theme
DESCRIPTION:Join yoga certified instructor Josie Johnson for a class designed for families with children of varied ages and abilities. Practice breathing techniques & yoga poses to calm\, energize and balance your body.
X-ALT-DESC;FMTTYPE=text/html:<span style="color:rgb(0\, 0\, 0)\; font-family:arial\; font-size:16px">Join yoga certified instructor&nbsp\;Josie Johnson&nbsp\;for a class designed for families with children of varied ages and abilities. Practice breathing techniques &amp\; yoga poses to calm\, energize and balance your body.</span>
LOCATION:Matheson Memorial Library
UID:e.2059.9527
SEQUENCE:3
DTSTAMP:20260422T021411Z
URL:https://business.elkhornchamber.com/events/details/family-yoga-with-a-hallowe-en-theme-9527
END:VEVENT

END:VCALENDAR
