BEGIN:VCALENDAR
VERSION:2.0
PRODID:-//ChamberMaster//Event Calendar 2.0//EN
METHOD:PUBLISH
X-PUBLISHED-TTL:P3D
REFRESH-INTERVAL:P3D
CALSCALE:GREGORIAN
BEGIN:VEVENT
DTSTART:20180120T160000Z
DTEND:20180120T200000Z
X-MICROSOFT-CDO-ALLDAYEVENT:FALSE
SUMMARY:Family Search:Family History Center
DESCRIPTION:Family Search\n\nDiscover Them\, Discover YOU!\n\nFree Local Assistance.\n\nThe Church of Jesus Christ of Latter Day Saints\n\nWorld's Largest collection of Family History and Genealogy resources are available to you!\n\nFamily History Center Hours:\n\nTuesdays 10am until 2pm\n\nWednesdays 6:30pm until 8:30pm\n\nSaturdays 10am until 2pm\n\nClosed 5th Wednesdays and Saturdays
X-ALT-DESC;FMTTYPE=text/html:Family Search<br />\nDiscover Them\, Discover YOU!<br />\nFree Local Assistance.<br />\nThe Church of Jesus Christ of Latter Day Saints<br />\nWorld&#39\;s Largest collection of Family History and Genealogy resources are available to you!<br />\nFamily History Center Hours:<br />\nTuesdays 10am until 2pm<br />\nWednesdays 6:30pm until 8:30pm<br />\nSaturdays 10am until 2pm<br />\nClosed 5th Wednesdays and Saturdays
LOCATION:W4616 Potter Road Elkhorn\, WI
UID:e.2059.7358
SEQUENCE:3
DTSTAMP:20260422T151215Z
URL:https://business.elkhornchamber.com/events/details/family-search-family-history-center-01-20-2018-7358
END:VEVENT

END:VCALENDAR
