BEGIN:VCALENDAR
VERSION:2.0
PRODID:-//ChamberMaster//Event Calendar 2.0//EN
METHOD:PUBLISH
X-PUBLISHED-TTL:P3D
REFRESH-INTERVAL:P3D
CALSCALE:GREGORIAN
BEGIN:VEVENT
DTSTART:20181113T220000Z
DTEND:20181114T000000Z
X-MICROSOFT-CDO-ALLDAYEVENT:FALSE
SUMMARY:Family Holiday Craft Extravaganza
DESCRIPTION:Families are invited to drop by the Storyroom and create a glittery project to celebrate the season.
X-ALT-DESC;FMTTYPE=text/html:<span style="color:rgb(0\, 0\, 0)\; font-family:arial\; font-size:14.6667px">Families are invited to drop by the Storyroom and create a glittery project to celebrate the season.</span>
LOCATION:Matheson Memorial Library
UID:e.2059.9568
SEQUENCE:3
DTSTAMP:20260422T002205Z
URL:https://business.elkhornchamber.com/events/details/family-holiday-craft-extravaganza-9568
END:VEVENT

END:VCALENDAR
