BEGIN:VCALENDAR
VERSION:2.0
PRODID:-//ChamberMaster//Event Calendar 2.0//EN
METHOD:PUBLISH
X-PUBLISHED-TTL:P3D
REFRESH-INTERVAL:P3D
CALSCALE:GREGORIAN
BEGIN:VEVENT
DTSTART:20151101T180000Z
DTEND:20151102T020000Z
X-MICROSOFT-CDO-ALLDAYEVENT:FALSE
SUMMARY:Family Fun-Raiser Every Splash Counts
DESCRIPTION:You're invited to our next Family Fun-raiser at Timber Ridge Waterpark. It's an exciting afternoon to burn off the sugar rush after Halloween with fun slides and plenty of silly splashing...all while benefiting Open Arms Free Clinic.
X-ALT-DESC;FMTTYPE=text/html:You&#39\;re invited to our next Family Fun-raiser at Timber Ridge Waterpark. It&#39\;s an exciting afternoon to burn off the sugar rush after Halloween with fun slides and plenty of silly splashing...all while benefiting Open Arms Free Clinic.
LOCATION:Timber Ridge Lodge & Waterpark 7020 Grand Geneva Way Lake Geneva\, Wi
UID:e.2059.1729
SEQUENCE:3
DTSTAMP:20260424T112234Z
URL:https://business.elkhornchamber.com/events/details/family-fun-raiser-every-splash-counts-11-01-2015-1729
END:VEVENT

END:VCALENDAR
