BEGIN:VCALENDAR
VERSION:2.0
PRODID:-//ChamberMaster//Event Calendar 2.0//EN
METHOD:PUBLISH
X-PUBLISHED-TTL:P3D
REFRESH-INTERVAL:P3D
CALSCALE:GREGORIAN
BEGIN:VEVENT
DTSTART;VALUE=DATE:20160716
DTEND;VALUE=DATE:20160717
TRANSP:TRANSPARENT
X-MICROSOFT-CDO-ALLDAYEVENT:TRUE
SUMMARY:Family Fun Fest
DESCRIPTION:Fun for the whole family. Dunk Tank\, Bouncy Houses\, Games\, Prizes\, Food\, Silent Auction Items.\n\nAll proceeds go to local Charities - List TBD
X-ALT-DESC;FMTTYPE=text/html:Fun for the whole family. Dunk Tank\, Bouncy Houses\, Games\, Prizes\, Food\, Silent Auction Items.<br />\nAll proceeds go to local Charities - List TBD
LOCATION:First Congregational UCC Church 76 S. Wisconsin St Elkhorn\, WI 53121
UID:e.2059.3435
SEQUENCE:3
DTSTAMP:20260423T234637Z
URL:https://business.elkhornchamber.com/events/details/family-fun-fest-07-16-2016-3435
END:VEVENT

END:VCALENDAR
