BEGIN:VCALENDAR
VERSION:2.0
PRODID:-//ChamberMaster//Event Calendar 2.0//EN
METHOD:PUBLISH
X-PUBLISHED-TTL:P3D
REFRESH-INTERVAL:P3D
CALSCALE:GREGORIAN
BEGIN:VEVENT
DTSTART:20181012T230000Z
DTEND:20181013T010000Z
X-MICROSOFT-CDO-ALLDAYEVENT:FALSE
SUMMARY:Family Fort Night
DESCRIPTION:4K families\, join us at the library for a family fort night! Bring a sheet or blanket and a flashlight and create your own cozy reading fort. Explore the library after hours\, participate in fun activities\, and enjoy a sweet treat.\n\nAnd at 6:30\, join yoga certified instructor Josie Johnson for a class designed for families with children of varied ages and abilities. Practice breathing techniques & yoga poses to calm\, energize and balance your body.\n\nSponsored by EASD Parent Connections\, Step Ahead\, Lakelands Little Learners\, The Learning Curve\, and the Matheson Memorial Library
X-ALT-DESC;FMTTYPE=text/html:<p><span style="background-color:transparent\; color:rgb(0\, 0\, 0)\; font-family:arial\; font-size:11pt">4K families\, join us at the library for a family fort night! Bring a sheet or blanket and a flashlight and create your own cozy reading fort. Explore the library after hours\, participate in fun activities\, and enjoy a sweet treat.</span><br />\n<span style="color:rgb(34\, 34\, 34)\; font-family:arial\,sans-serif\; font-size:16px"><span style="background-color:transparent\; color:rgb(0\, 0\, 0)\; font-family:arial">And&nbsp\;at 6:30\,</span></span><span style="color:rgb(0\, 0\, 0)\; font-family:arial\; font-size:16px">&nbsp\;join yoga certified instructor&nbsp\;Josie Johnson&nbsp\;for a class designed for families with children of varied ages and abilities. Practice breathing techniques &amp\; yoga poses to calm\, energize and balance your body.</span></p>\n\n<p><span style="background-color:transparent\; color:rgb(0\, 0\, 0)\; font-family:arial\; font-size:11pt">Sponsored by EASD Parent Connections\, Step Ahead\, Lakelands Little Learners\, The Learning Curve\, and the Matheson Memorial Library</span></p>\n\n<div>&nbsp\;</div>\n
LOCATION:Matheson Memorial Library
UID:e.2059.9526
SEQUENCE:3
DTSTAMP:20260422T002333Z
URL:https://business.elkhornchamber.com/events/details/family-fort-night-10-12-2018-9526
END:VEVENT

END:VCALENDAR
