BEGIN:VCALENDAR
VERSION:2.0
PRODID:-//ChamberMaster//Event Calendar 2.0//EN
METHOD:PUBLISH
X-PUBLISHED-TTL:P3D
REFRESH-INTERVAL:P3D
CALSCALE:GREGORIAN
BEGIN:VEVENT
DTSTART:20170413T230000Z
DTEND:20170413T230000Z
X-MICROSOFT-CDO-ALLDAYEVENT:FALSE
SUMMARY:Family Feud EAHS Student/Faculty Edition
DESCRIPTION:Elkhorn Area High School Key Club Presents Family Feud~ EAHS Student / Faculty Edition!\n\nAll Proceeds benefit Kids Priority One\n\nConcessions Available
X-ALT-DESC;FMTTYPE=text/html:Elkhorn Area High School Key Club Presents Family Feud~ EAHS Student / Faculty Edition!<br />\nAll Proceeds benefit Kids Priority One<br />\nConcessions Available
LOCATION:Eklhorn Area High School Auditorium
UID:e.2059.5002
SEQUENCE:3
DTSTAMP:20260423T074307Z
URL:https://business.elkhornchamber.com/events/details/family-feud-eahs-student-faculty-edition-5002
END:VEVENT

END:VCALENDAR
