BEGIN:VCALENDAR
VERSION:2.0
PRODID:-//ChamberMaster//Event Calendar 2.0//EN
METHOD:PUBLISH
X-PUBLISHED-TTL:P3D
REFRESH-INTERVAL:P3D
CALSCALE:GREGORIAN
BEGIN:VEVENT
DTSTART;VALUE=DATE:20181005
DTEND;VALUE=DATE:20181008
TRANSP:TRANSPARENT
X-MICROSOFT-CDO-ALLDAYEVENT:TRUE
SUMMARY:Family Fall Festival
DESCRIPTION:Enjoy the fall colors and extended weekend activities with family and friends at the lake! This memorable weekend will be loaded with fall-themed events\, including unlimited mini golf\, scarecrow building\, pumpkin decorating\, donut making\, hayrides\, buffets\, games and activities for the whole family! Don't miss out!
X-ALT-DESC;FMTTYPE=text/html:Enjoy the fall colors and extended weekend activities with family and friends at the lake! This memorable weekend will be loaded with fall-themed events\, including unlimited mini golf\, scarecrow building\, pumpkin decorating\, donut making\, hayrides\, buffets\, games and activities for the whole family! Don&#39\;t miss out!
LOCATION:Lake Lawn Resort 2400 E Geneva Street Delavan\, WI
UID:e.2059.9516
SEQUENCE:3
DTSTAMP:20260422T002243Z
URL:https://business.elkhornchamber.com/events/details/family-fall-festival-9516
END:VEVENT

END:VCALENDAR
