BEGIN:VCALENDAR
VERSION:2.0
PRODID:-//ChamberMaster//Event Calendar 2.0//EN
METHOD:PUBLISH
X-PUBLISHED-TTL:P3D
REFRESH-INTERVAL:P3D
CALSCALE:GREGORIAN
BEGIN:VEVENT
DTSTART:20180604T230000Z
DTEND:20180605T010000Z
X-MICROSOFT-CDO-ALLDAYEVENT:FALSE
SUMMARY:Family Bingo Fundraiser
DESCRIPTION:Family Bingo FUndraiser to Benefit LCC Mission Trip to Guatemala\n\nEntry Fee includes a slice of pizza\, water bottle and bingo card for all games.\n\n*EXTRAS** Don't forget to check out our Silent Auction items that night. View items and starting bids here: https://goo.gl/z3g9UB\n\nAlso\, enjoy 9 flavors of Seroogy's Choc late Bars for purchase at $2.00 each. Please no children under 5 years old.\n\nFor an  Extra $5.00 you can receive an additional bingo card for all games.
X-ALT-DESC;FMTTYPE=text/html:Family Bingo FUndraiser to Benefit LCC Mission Trip to Guatemala<br />\nEntry Fee includes a slice of pizza\, water bottle and bingo card for all games.<br />\n*EXTRAS** Don&#39\;t forget to check out our Silent Auction items that night. View items and starting bids here: https://goo.gl/z3g9UB<br />\nAlso\, enjoy 9 flavors of Seroogy&#39\;s Choc late Bars for purchase at $2.00 each. Please no children under 5 years old.<br />\nFor an&nbsp\; Extra $5.00 you can receive an additional bingo card for all games.
LOCATION:Elkhorn Area Middle School-Cafeteria 627 E. Court Street\, Elkhorn\, WI 53121
UID:e.2059.9049
SEQUENCE:3
DTSTAMP:20260422T085307Z
URL:https://business.elkhornchamber.com/events/details/family-bingo-fundraiser-9049
END:VEVENT

END:VCALENDAR
