BEGIN:VCALENDAR
VERSION:2.0
PRODID:-//ChamberMaster//Event Calendar 2.0//EN
METHOD:PUBLISH
X-PUBLISHED-TTL:P3D
REFRESH-INTERVAL:P3D
CALSCALE:GREGORIAN
BEGIN:VEVENT
DTSTART:20171013T000000Z
DTEND:20171013T010000Z
X-MICROSOFT-CDO-ALLDAYEVENT:FALSE
SUMMARY:Fake News: Discerning What's Real
DESCRIPTION:FAKE NEWS!\n\nAs informed citizens\, how can we recognize and deal with this increasing phenomena?\n\nJoin Dr. Eric Loepp\, UW-Whitewater Professor of Political Science\, as he discusses guidelines on how to discern truth in this post-truth political reality we now find ourselves in.\n\nWhether online or in print\, there's a sea of alternate "facts"\, misleading statements\, questionable sources and lots of downright lies out there. Come to this program to gain some tools to stay anchored in reality.
X-ALT-DESC;FMTTYPE=text/html:<p style="text-align:center"><span style="font-family:arial\,sans-serif"><span style="font-size:12px"><span style="font-family:arial\,helvetica\,sans-serif">FAKE NEWS!</span></span><br />\n<span style="font-size:12px"><span style="font-family:arial\,helvetica\,sans-serif">As informed citizens\, how can we recognize and deal with this increasing phenomena?</span></span></span></p>\n\n<p style="text-align:center"><span style="font-size:12px"><span style="font-family:arial\,helvetica\,sans-serif">Join Dr. Eric Loepp\, UW-Whitewater Professor of Political Science\, as he discusses&nbsp\;guidelines on how&nbsp\;to discern truth in this post-truth political reality we now find ourselves in.</span></span></p>\n\n<p style="text-align:center"><span style="font-size:12px"><span style="font-family:arial\,helvetica\,sans-serif">Whether online or in print\, there&rsquo\;s a sea of alternate &ldquo\;facts&quot\;\, misleading statements\,&nbsp\;questionable sources and lots of downright lies out there. Come to this program to&nbsp\;gain some tools to stay anchored in reality.&nbsp\;</span></span></p>\n
LOCATION:Matheson Memorial Library
UID:e.2059.6072
SEQUENCE:3
DTSTAMP:20260422T214954Z
URL:https://business.elkhornchamber.com/events/details/fake-news-discerning-what-s-real-6072
END:VEVENT

END:VCALENDAR
