BEGIN:VCALENDAR
VERSION:2.0
PRODID:-//ChamberMaster//Event Calendar 2.0//EN
METHOD:PUBLISH
X-PUBLISHED-TTL:P3D
REFRESH-INTERVAL:P3D
CALSCALE:GREGORIAN
BEGIN:VEVENT
DTSTART:20160318T213000Z
DTEND:20160319T000000Z
X-MICROSOFT-CDO-ALLDAYEVENT:FALSE
SUMMARY:Every Bite Counts- All You Can Eat Lenten Fish Fry
DESCRIPTION:Every Bite Counts. Your Dinner is your Donation!\n\nCome meet our volunteers at St. Benedict Church for an All You Can Eat Lenten Fish Fry. A portion of sales go directly to Open Arms Free Clinic.
X-ALT-DESC;FMTTYPE=text/html:Every Bite Counts. Your Dinner is your Donation!<br />\nCome meet our volunteers at St. Benedict Church for an All You Can Eat Lenten Fish Fry. A portion of sales go directly to Open Arms Free Clinic.
LOCATION:St. Benedict Church 137 Dewey Ave Fontana\, WI
UID:e.2059.1949
SEQUENCE:3
DTSTAMP:20260424T045535Z
URL:https://business.elkhornchamber.com/events/details/every-bite-counts-all-you-can-eat-lenten-fish-fry-03-18-2016-1949
END:VEVENT

END:VCALENDAR
