BEGIN:VCALENDAR
VERSION:2.0
PRODID:-//ChamberMaster//Event Calendar 2.0//EN
METHOD:PUBLISH
X-PUBLISHED-TTL:P3D
REFRESH-INTERVAL:P3D
CALSCALE:GREGORIAN
BEGIN:VEVENT
DTSTART;VALUE=DATE:20151003
DTEND;VALUE=DATE:20151004
TRANSP:TRANSPARENT
X-MICROSOFT-CDO-ALLDAYEVENT:TRUE
SUMMARY:Evergreen Fall Scramble
DESCRIPTION:27 holes of golf & cart\, TONS of cash prizes for 1st\, 4th\, 8th & 12th places. Famous steak cookout\, 4 person teams.
X-ALT-DESC;FMTTYPE=text/html:27 holes of golf &amp\; cart\, TONS of cash prizes for 1st\, 4th\, 8th &amp\; 12th places. Famous steak cookout\, 4 person teams.
LOCATION:Evergreen Golf Club\, N6246 US Hwy 12\, Elkhorn WI 53121
UID:e.2059.1674
SEQUENCE:3
DTSTAMP:20260424T123714Z
URL:https://business.elkhornchamber.com/events/details/evergreen-fall-scramble-10-03-2015-1674
END:VEVENT

END:VCALENDAR
