BEGIN:VCALENDAR
VERSION:2.0
PRODID:-//ChamberMaster//Event Calendar 2.0//EN
METHOD:PUBLISH
X-PUBLISHED-TTL:P3D
REFRESH-INTERVAL:P3D
CALSCALE:GREGORIAN
BEGIN:VEVENT
DTSTART:20151121T230000Z
DTEND:20151121T230000Z
X-MICROSOFT-CDO-ALLDAYEVENT:FALSE
SUMMARY:Evergreen Comedy Night
DESCRIPTION:Deer hunting widows special event! Buffet dinner + 2 Headliner Comedians featuring Paul Frisbie & Dwayne Kennedy. Only $45 per person (tax & gratuity included). Grab your girlfriends while the men are away for a night out with tons of laughs.
X-ALT-DESC;FMTTYPE=text/html:Deer hunting widows special event! Buffet dinner + 2 Headliner Comedians featuring Paul Frisbie &amp\; Dwayne Kennedy. Only $45 per person (tax &amp\; gratuity included). Grab your girlfriends while the men are away for a night out with tons of laughs.
LOCATION:Evergreen Country Club Hwy 12/67 North Elkhorn\, Wi 53121
UID:e.2059.1714
SEQUENCE:3
DTSTAMP:20260424T123853Z
URL:https://business.elkhornchamber.com/events/details/evergreen-comedy-night-11-21-2015-1714
END:VEVENT

END:VCALENDAR
