BEGIN:VCALENDAR
VERSION:2.0
PRODID:-//ChamberMaster//Event Calendar 2.0//EN
METHOD:PUBLISH
X-PUBLISHED-TTL:P3D
REFRESH-INTERVAL:P3D
CALSCALE:GREGORIAN
BEGIN:VEVENT
DTSTART:20151028T213000Z
DTEND:20151028T213000Z
X-MICROSOFT-CDO-ALLDAYEVENT:FALSE
SUMMARY:Estate Planning Workshop
DESCRIPTION:Sherwood Lodge is hosting a Estate Planning Workshop. Whether you are single\, married\, or widowed\, you need to have a good Estate plan to protect your family and pass your assets without delay and cost of Probate. What are the most important Estate planning documents\, what they do and who needs them? What is Probate? All of these questions plus much much more will be answered for you.\n\nThis event is presented by Senior Strategies\n\nGuest Speaker ~ Attorney Jessica Sippel from Sippel Law Firm
X-ALT-DESC;FMTTYPE=text/html:Sherwood Lodge is hosting a Estate Planning Workshop. Whether you are single\, married\, or widowed\, you need to have a good Estate plan to protect your family and pass your assets without delay and cost of Probate. What are the most important Estate planning documents\, what they do and who needs them? What is Probate? All of these questions plus much much more will be answered for you.<br />\nThis event is presented by Senior Strategies<br />\nGuest Speaker ~ Attorney Jessica Sippel from Sippel Law Firm
LOCATION:Sherwood Lodge 116 Cherry St. Willaims Bay
UID:e.2059.1736
SEQUENCE:3
DTSTAMP:20260424T141315Z
URL:https://business.elkhornchamber.com/events/details/estate-planning-workshop-10-28-2015-1736
END:VEVENT

END:VCALENDAR
