BEGIN:VCALENDAR
VERSION:2.0
PRODID:-//ChamberMaster//Event Calendar 2.0//EN
METHOD:PUBLISH
X-PUBLISHED-TTL:P3D
REFRESH-INTERVAL:P3D
CALSCALE:GREGORIAN
BEGIN:VEVENT
DTSTART:20160420T003000Z
DTEND:20160420T003000Z
X-MICROSOFT-CDO-ALLDAYEVENT:FALSE
SUMMARY:Ensemble Schumann
DESCRIPTION:This colorful combination of instruments brings together three outstanding artists for lively programs of works by such composers as Robert Schumann\, Johannes Brahms\, Camille Saint-saens\, Charles Martin Loeffler\, Francis Poulenc\, Sir Arthur Foote\, Dmitri Shostakovich\, Benjamin Britten\, and Cesar Franck. The members of Ensemble Schumann have collectively performed at Lincoln Center and Carnegie Hall in New York City\, at Jordan Hall in Boston\, Wigmore Hall in London\, at the Library of Congress in Washington D.C.\n\n\n\n" superb balance played with passion and warmth and impressive performance."\n\n~ Heritage Villager\, CT
X-ALT-DESC;FMTTYPE=text/html:This colorful combination of instruments brings together three outstanding artists for lively programs of works by such composers as Robert Schumann\, Johannes Brahms\, Camille Saint-saens\, Charles Martin Loeffler\, Francis Poulenc\, Sir Arthur Foote\, Dmitri Shostakovich\, Benjamin Britten\, and Cesar Franck. The members of Ensemble Schumann have collectively performed at Lincoln Center and Carnegie Hall in New York City\, at Jordan Hall in Boston\, Wigmore Hall in London\, at the Library of Congress in Washington D.C.<br />\n<br />\n<em>&ldquo\;&hellip\;superb balance&hellip\;played with passion and warmth&hellip\;and impressive performance.&rdquo\;</em><br />\n~ Heritage Villager\, CT
LOCATION:
UID:e.2059.2945
SEQUENCE:3
DTSTAMP:20260424T030008Z
URL:https://business.elkhornchamber.com/events/details/ensemble-schumann-04-19-2016-2945
END:VEVENT

END:VCALENDAR
