BEGIN:VCALENDAR
VERSION:2.0
PRODID:-//ChamberMaster//Event Calendar 2.0//EN
METHOD:PUBLISH
X-PUBLISHED-TTL:P3D
REFRESH-INTERVAL:P3D
CALSCALE:GREGORIAN
BEGIN:VEVENT
DTSTART:20180821T233000Z
DTEND:20180821T233000Z
X-MICROSOFT-CDO-ALLDAYEVENT:FALSE
SUMMARY:Elkhorn Walking Tour
DESCRIPTION:We'll be visiting iconic city locations\, using A Centennial History of Elkhorn as our guide. Meet at the library Community Center\, and wear comfortable clothing and good walking shoes!\n\nCall us at 262-723-2678 or visit our Facebook page for any weather cancelations or changes in starting location (due to our parking lot repair).\n\n Contact: Chad Robinson   262-723-2678   crobinson@elkhorn.lib.wi.us
X-ALT-DESC;FMTTYPE=text/html:We&rsquo\;ll be visiting iconic city locations\, using A Centennial History of Elkhorn as our guide. Meet at the library Community Center\, and wear comfortable clothing and good walking shoes!<br />\nCall us at 262-723-2678 or visit our Facebook page for any weather cancelations or changes in starting location (due to our parking lot repair).<br />\n&nbsp\;Contact: Chad Robinson&nbsp\;&nbsp\; 262-723-2678&nbsp\;&nbsp\; crobinson@elkhorn.lib.wi.us
LOCATION:Matheson Memorial Library\, Elkhorn
UID:e.2059.9444
SEQUENCE:3
DTSTAMP:20260422T035431Z
URL:https://business.elkhornchamber.com/events/details/elkhorn-walking-tour-9444
END:VEVENT

END:VCALENDAR
