BEGIN:VCALENDAR
VERSION:2.0
PRODID:-//ChamberMaster//Event Calendar 2.0//EN
METHOD:PUBLISH
X-PUBLISHED-TTL:P3D
REFRESH-INTERVAL:P3D
CALSCALE:GREGORIAN
BEGIN:VEVENT
DTSTART:20181008T233000Z
DTEND:20181009T010000Z
X-MICROSOFT-CDO-ALLDAYEVENT:FALSE
SUMMARY:Elkhorn Volleyball Club Tryout-All Ages
DESCRIPTION:Join the Elkhorn Volleyball Club at the tryouts for all ages on Monday\, October 8th!
X-ALT-DESC;FMTTYPE=text/html:<p>Join the Elkhorn Volleyball Club at the tryouts for all ages on Monday\, October 8th!</p>\n
LOCATION:Elkhorn Area High School
UID:e.2059.9530
SEQUENCE:3
DTSTAMP:20260422T021424Z
URL:https://business.elkhornchamber.com/events/details/elkhorn-volleyball-club-tryout-all-ages-9530
END:VEVENT

END:VCALENDAR
