BEGIN:VCALENDAR
VERSION:2.0
PRODID:-//ChamberMaster//Event Calendar 2.0//EN
METHOD:PUBLISH
X-PUBLISHED-TTL:P3D
REFRESH-INTERVAL:P3D
CALSCALE:GREGORIAN
BEGIN:VEVENT
DTSTART:20181007T220000Z
DTEND:20181008T010000Z
X-MICROSOFT-CDO-ALLDAYEVENT:FALSE
SUMMARY:Elkhorn Volleyball Club Tryout
DESCRIPTION:Join the Elkhorn Volleyball Club today! We will be hosting tryouts on Sunday\, October 7th!
X-ALT-DESC;FMTTYPE=text/html:Join the Elkhorn Volleyball Club today! We will be hosting tryouts on Sunday\, October 7th!
LOCATION:Elkhorn Area High School
UID:e.2059.9529
SEQUENCE:3
DTSTAMP:20260422T021248Z
URL:https://business.elkhornchamber.com/events/details/elkhorn-volleyball-club-tryout-9529
END:VEVENT

END:VCALENDAR
