BEGIN:VCALENDAR
VERSION:2.0
PRODID:-//ChamberMaster//Event Calendar 2.0//EN
METHOD:PUBLISH
X-PUBLISHED-TTL:P3D
REFRESH-INTERVAL:P3D
CALSCALE:GREGORIAN
BEGIN:VEVENT
DTSTART:20151205T130000Z
DTEND:20151205T170000Z
X-MICROSOFT-CDO-ALLDAYEVENT:FALSE
SUMMARY:Elkhorn VFW Pancake Breakfast
DESCRIPTION:Support the Elkhorn VFW Memorial Post 6375 and enjoy a delicious breakfast of pancakes\, sausage\, eggs\, juice\, coffee\, milk and hot chocolate at the Elkhorn Middle School cafeteria. Tickets are $6 in advance or $7 at the door for adults and for kids tickets are $4. The VFW Ladies Auxiliary will also be holding a bake sale. Tickets can be purchased through any VFW member or at the Elkhorn Chamber\, Peoples Bank\, Associated Bank and Soleil Caffe.
X-ALT-DESC;FMTTYPE=text/html:Support the Elkhorn VFW Memorial Post 6375 and enjoy a delicious breakfast of pancakes\, sausage\, eggs\, juice\, coffee\, milk and hot chocolate at the Elkhorn Middle School cafeteria. Tickets are $6 in advance or $7 at the door for adults and for kids tickets are $4. The VFW Ladies Auxiliary will also be holding a bake sale. Tickets can be purchased through any VFW member or at the Elkhorn Chamber\, Peoples Bank\, Associated Bank and Soleil Caffe.
LOCATION:Elkhorn Area Middle School Cafeteria 627 E. Court St.\, Elkhorn
UID:e.2059.1146
SEQUENCE:3
DTSTAMP:20260424T094549Z
URL:https://business.elkhornchamber.com/events/details/elkhorn-vfw-pancake-breakfast-12-05-2015-1146
END:VEVENT

END:VCALENDAR
