BEGIN:VCALENDAR
VERSION:2.0
PRODID:-//ChamberMaster//Event Calendar 2.0//EN
METHOD:PUBLISH
X-PUBLISHED-TTL:P3D
REFRESH-INTERVAL:P3D
CALSCALE:GREGORIAN
BEGIN:VEVENT
DTSTART;VALUE=DATE:20170828
DTEND;VALUE=DATE:20170904
TRANSP:TRANSPARENT
X-MICROSOFT-CDO-ALLDAYEVENT:TRUE
SUMMARY:Elkhorn Sunset Pool Hours TBD
DESCRIPTION:Elkhorn Sunset Pool hours are TBD.\n\nhttp://www.cityofelkhorn.org/CityServices/ParksAndRec/OverviewPAndR.asp
X-ALT-DESC;FMTTYPE=text/html:Elkhorn Sunset Pool hours are TBD.<br />\n<a href="http://www.cityofelkhorn.org/CityServices/ParksAndRec/OverviewPAndR.asp">http://www.cityofelkhorn.org/CityServices/ParksAndRec/OverviewPAndR.asp</a>
LOCATION:200 Devendorf St Elkhorn\, WI 53121
UID:e.2059.4997
SEQUENCE:3
DTSTAMP:20260422T232127Z
URL:https://business.elkhornchamber.com/events/details/elkhorn-sunset-pool-hours-tbd-4997
END:VEVENT

END:VCALENDAR
