BEGIN:VCALENDAR
VERSION:2.0
PRODID:-//ChamberMaster//Event Calendar 2.0//EN
METHOD:PUBLISH
X-PUBLISHED-TTL:P3D
REFRESH-INTERVAL:P3D
CALSCALE:GREGORIAN
BEGIN:VEVENT
DTSTART:20170708T220000Z
DTEND:20170708T220000Z
X-MICROSOFT-CDO-ALLDAYEVENT:FALSE
SUMMARY:Elkhorn Summer Nationals Monster Truck Showdown
DESCRIPTION:* All Advance Tickets "Limited Supply"....ONLY....$12....Bucks !!\n\n* Advance Tickets Sales..tickets available at: ELKHORN NAPA AUTO\n\nPARTS STORE....located at 806 N. Wisconsin St. in Elkhorn or purchase tickets on\n\nline at: www.elkhornmonstertruckshow.eventbrite.com\n\n* You can also purchase tickets at the Gate on Day of Show..Cash Only - prices are higher at Gate....all\n\nticket sales are final - no refunds & no exchange\n\n\n\nFor the First Time Ever !\n\nElkhorn Summer Nationals Monster Truck Showdown !\n\n*********************************************************************\n\n* featuring Giant National TV Monster Trucks:\n\nWorld Champion BOUNTY HUNTER - IRON OUTLAW - ...\n\nHEAVY HITTER - BASHER....in ground pounding & high flying excitement !!\n\nPlus.... Professional QUAD WARS - HOT ROD the Clown & Monster Truck Rides\n\n*********************************************************************\n\n* Saturday July 8\, 2017....One Giant Show !!\n\n* WALWORTH COUNTY FAIRGROUNDS\n\n411 E Court st\n\nElkhorn WI - Covered Grandstands\n\nGates Open @ 5:00 pm - pre-show FREE Pit Party 5:30 pm to 7:00 pm\n\nShow Starts @ 7:30 pm....ends about 9:30 pm\n\n* following our performance....post show Drivers Autograph's\n\n* Get a Chance to Ride on a Real Monster Truck....will be selling ride\n\n* QUAD WARS....Wisconsin vs Illinois + HOT ROD the Monster Truck Clown\n\n* All Advance Tickets "Limited Supply"....ONLY....$12....Bucks !!\n\n* Advance Tickets Sales..tickets available at: ELKHORN NAPA AUTO\n\nPARTS STORE....located at 806 N. Wisconsin St. in Elkhorn or purchase tickets on\n\nline at: www.elkhornmonstertruckshow.eventbrite.com\n\n* You can also purchase tickets at the Gate on Day of Show..Cash Only - prices are higher at Gate....all\n\nticket sales are final - no refunds & no exchange\n\n* WALWORTH COUNTY FAIRGROUNDS - has a large covered grandstand with plenty of seating\n\n* Fairgrounds Dirt Track is also very large - Where they can Really Get Some Big Air !!\n\n* No outside food/drinks or coolers allowed into facility\n\n* see us on face-book for added information: 2XTREME RACING\n\n* talent & show programming subject change....we run rain or shine
X-ALT-DESC;FMTTYPE=text/html:<div class="text_exposed_root text_exposed" id="id_595083caaa4bd5443929745"><span class="_4n-j _3cht fsl" data-testid="event-permalink-details"><span>* All Advance Tickets &quot\;Limited Supply&quot\;....ONLY....$12....</span><wbr />Bucks !!<br />\n* Advance Tickets Sales..tickets available at: ELKHORN NAPA AUTO<br />\nPARTS STORE....located at 806 N. Wisconsin St. in Elkhorn or purchase tickets on<br />\nline at: <a href="https://l.facebook.com/l.php?u=http%3A%2F%2Fwww.elkhornmonstertruckshow.eventbrite.com%2F&amp\;h=ATNia6I4voAH8YNKCcR57vxlMXy3B2UbDPD0YHFKKDDga8V--h--gcVgOqHs4KZZyRN_nyrealXfrEuxifHCMQye-17wf8fCeiw0W7b6HKfV728QpYR42gx4o0ZzEQ-i&amp\;enc=AZNP_NxmahuFfVAC9J0cDjecz9yStaLWTBRqUDVq_vQu0n8Ybv31c-VKLwqolOO_Xyo&amp\;s=1" rel="nofollow nofollow" target="_blank"><font color="#0066cc"><span>www.elkhornmonstertrucksho</span><wbr /></font><font color="#0066cc">w.eventbrite.com</font></a><br />\n* You can also purchase tickets at the Gate on Day of Show..Cash Only - prices are higher at Gate....all<br />\nticket sales are final - no refunds &amp\; no exchange<br />\n<br />\nFor the First Time Ever !<br />\nElkhorn Summer Nationals Monster Truck Showdown !<br />\n<span>**************************</span><wbr /><span>**************************</span><wbr />*****************<br />\n* featuring Giant National TV Monster Trucks:<br />\nWorld Champion BOUNTY HUNTER - IRON OUTLAW - <span class="text_exposed_hide">...</span><br />\n<span class="text_exposed_show">HEAVY HITTER - BASHER....in ground pounding &amp\; high flying excitement !!<br />\nPlus.... Professional QUAD WARS - HOT ROD the Clown &amp\; Monster Truck Rides<br />\n<span>**************************</span><wbr /><span>**************************</span><wbr />*****************<br />\n* Saturday July 8\, 2017....One Giant Show !!<br />\n* WALWORTH COUNTY FAIRGROUNDS<br />\n411 E Court st<br />\nElkhorn WI - Covered Grandstands<br />\nGates Open @ 5:00 pm - pre-show FREE Pit Party 5:30 pm to 7:00 pm<br />\nShow Starts @ 7:30 pm....ends about 9:30 pm<br />\n* following our performance....post show Drivers Autograph&#39\;s<br />\n* Get a Chance to Ride on a Real Monster Truck....will be selling ride<br />\n* QUAD WARS....Wisconsin vs Illinois + HOT ROD the Monster Truck Clown<br />\n<span>* All Advance Tickets &quot\;Limited Supply&quot\;....ONLY....$12....</span><wbr />Bucks !!<br />\n* Advance Tickets Sales..tickets available at: ELKHORN NAPA AUTO<br />\nPARTS STORE....located at 806 N. Wisconsin St. in Elkhorn or purchase tickets on<br />\nline at: <a href="https://l.facebook.com/l.php?u=http%3A%2F%2Fwww.elkhornmonstertruckshow.eventbrite.com%2F&amp\;h=ATM1RVYZNq_rJPz1XVc-nvsDnTkBHiyEdjJdXnVZhx7g5H3vfGgG_w9jVo2KMLW5pBbXbWS9rj3wn4lMzBmRgsTZNbBr0T15NSOYiLzorwDpj-Vk6bibkD7qLd3sDLXK&amp\;enc=AZOrQhyzjQnHtR9oJnVIFYLZ3NyyCRL37pyiY1kdN2wdx3PBSjhotSJ3dMC9Zpwy3AM&amp\;s=1" rel="nofollow nofollow" target="_blank"><font color="#0066cc"><span>www.elkhornmonstertrucksho</span><wbr /></font><font color="#0066cc">w.eventbrite.com</font></a><br />\n* You can also purchase tickets at the Gate on Day of Show..Cash Only - prices are higher at Gate....all<br />\nticket sales are final - no refunds &amp\; no exchange<br />\n* WALWORTH COUNTY FAIRGROUNDS - has a large covered grandstand with plenty of seating<br />\n* Fairgrounds Dirt Track is also very large - Where they can Really Get Some Big Air !!<br />\n* No outside food/drinks or coolers allowed into facility<br />\n* see us on face-book for added information: 2XTREME RACING<br />\n* talent &amp\; show programming subject change....we run rain or shine</span></span></div>\n
LOCATION:Walworth County Fairgrounds 411 E. Court Street Lake Geneva\, WI 53121
UID:e.2059.5484
SEQUENCE:3
DTSTAMP:20260423T031358Z
URL:https://business.elkhornchamber.com/events/details/elkhorn-summer-nationals-monster-truck-showdown-5484
END:VEVENT

END:VCALENDAR
