BEGIN:VCALENDAR
VERSION:2.0
PRODID:-//ChamberMaster//Event Calendar 2.0//EN
METHOD:PUBLISH
X-PUBLISHED-TTL:P3D
REFRESH-INTERVAL:P3D
CALSCALE:GREGORIAN
BEGIN:VEVENT
DTSTART;VALUE=DATE:20160917
DTEND;VALUE=DATE:20160918
TRANSP:TRANSPARENT
X-MICROSOFT-CDO-ALLDAYEVENT:TRUE
SUMMARY:Elkhorn Snow-Drifters Tractor & Truck Pull
DESCRIPTION:More information to come.
X-ALT-DESC;FMTTYPE=text/html:More information to come.
LOCATION:Walworth County Fairgrounds 411 E. Court St Elkhorn Wi
UID:e.2059.2088
SEQUENCE:3
DTSTAMP:20260423T191755Z
URL:https://business.elkhornchamber.com/events/details/elkhorn-snow-drifters-tractor-truck-pull-09-17-2016-2088
END:VEVENT

END:VCALENDAR
