BEGIN:VCALENDAR
VERSION:2.0
PRODID:-//ChamberMaster//Event Calendar 2.0//EN
METHOD:PUBLISH
X-PUBLISHED-TTL:P3D
REFRESH-INTERVAL:P3D
CALSCALE:GREGORIAN
BEGIN:VEVENT
DTSTART;VALUE=DATE:20140913
DTEND;VALUE=DATE:20140914
TRANSP:TRANSPARENT
X-MICROSOFT-CDO-ALLDAYEVENT:TRUE
SUMMARY:Elkhorn Sno-Drifters 3rd Annual Truck & Tractor Pull
DESCRIPTION:See ATV/UTV Garden Tractors\, Side by Side Luedtke Eliminators\, Badger Truck Pullers Association and more. Concessions available with burgers\, hot dogs\, brats\, pig roast and beer. Also live music with Tombeau Road from 5-9pm.
X-ALT-DESC;FMTTYPE=text/html:See ATV/UTV Garden Tractors\, Side by Side Luedtke Eliminators\, Badger Truck Pullers Association and more. Concessions available with burgers\, hot dogs\, brats\, pig roast and beer. Also live music with Tombeau Road from 5-9pm.
LOCATION:Walworth County Fairgrounds 411 E. Court St.\, Elkhorn
UID:e.2059.472
SEQUENCE:3
DTSTAMP:20260425T122141Z
URL:https://business.elkhornchamber.com/events/details/elkhorn-sno-drifters-3rd-annual-truck-tractor-pull-09-13-2014-472
END:VEVENT

END:VCALENDAR
