BEGIN:VCALENDAR
VERSION:2.0
PRODID:-//ChamberMaster//Event Calendar 2.0//EN
METHOD:PUBLISH
X-PUBLISHED-TTL:P3D
REFRESH-INTERVAL:P3D
CALSCALE:GREGORIAN
BEGIN:VEVENT
DTSTART:20161002T150000Z
DTEND:20161002T210000Z
X-MICROSOFT-CDO-ALLDAYEVENT:FALSE
SUMMARY:Elkhorn School District Open House
DESCRIPTION:The Elkhorn Area School Board has unanimously approved a plan to complete the remaining projects identified in the District's long range facilities plan and partner with the City of Elkhorn in the development of the Market Street corridor. Based on district goals and recommendations from the citizen-based Facilities Advisory Committee\, residents will be asked to vote on two separate referendum questions on November 8:\n\n1. School Building & Site Improvements\n\n2. Operational Funding-Recurring Basis\n\nLearn More:\n\nVisit- www.elkhorn.k12.wi.us\n\nEmail your questions to : referendum2016@elkhorn.k12.wi.us\n\nSpeak with District Administrator Jason Tadlock or Business Manager Bill Trewyn by calling 262-723-3160\n\nVOTE NOVEMBER 8th
X-ALT-DESC;FMTTYPE=text/html:The Elkhorn Area School Board has unanimously approved a plan to complete the remaining projects identified in the District&#39\;s long range facilities plan and partner with the City of Elkhorn in the development of the Market Street corridor. Based on district goals and recommendations from the citizen-based Facilities Advisory Committee\, residents will be asked to vote on <strong>two separate referendum</strong> questions on November 8:<br />\n1. School Building &amp\; Site Improvements<br />\n2. Operational Funding-Recurring Basis<br />\nLearn More:<br />\nVisit- www.elkhorn.k12.wi.us<br />\nEmail your questions to : referendum2016@elkhorn.k12.wi.us<br />\nSpeak with District Administrator Jason Tadlock or Business Manager Bill Trewyn by calling 262-723-3160<br />\nVOTE NOVEMBER 8th<br />\n<br />\n&nbsp\;
LOCATION:All Elkhorn Schools will be Open School Tours
UID:e.2059.4529
SEQUENCE:3
DTSTAMP:20260423T185134Z
URL:https://business.elkhornchamber.com/events/details/elkhorn-school-district-open-house-4529
END:VEVENT

END:VCALENDAR
