BEGIN:VCALENDAR
VERSION:2.0
PRODID:-//ChamberMaster//Event Calendar 2.0//EN
METHOD:PUBLISH
X-PUBLISHED-TTL:P3D
REFRESH-INTERVAL:P3D
CALSCALE:GREGORIAN
BEGIN:VEVENT
DTSTART:20170127T230000Z
DTEND:20170128T020000Z
X-MICROSOFT-CDO-ALLDAYEVENT:FALSE
SUMMARY:Elkhorn Rotary Wine Beer & Food Expo
DESCRIPTION:The Elkhorn Rotary Club is hosting its 8th Annual Wine\, Beer\, & Food Expo on Friday\, January 27 from 5-8 at the Monte Carlo Room. The tickets are $25 in advance\, or $30 at the door\, for 10 taste samplings\, a silent auctions\, and hors d'oeuvres. Additional samplings can be purchased for $1 after each admission.
X-ALT-DESC;FMTTYPE=text/html:<span class="_4n-j _3cht fsl">The Elkhorn Rotary Club is hosting its 8th Annual Wine\, Beer\, &amp\; Food Expo on Friday\, January 27 from 5-8 at the Monte Carlo Room. The tickets are $25 in advance\, or $30 at the door\, for 10 taste samplings\, a silent auctions\, and hors d&#39\;oeuvres. Additional samplings can be purchased for $1 after each admission.</span>
LOCATION:Monte Carlo Room 720 N. Wisconsin Street Elkhorn\, Wi 53121
UID:e.2059.4658
SEQUENCE:3
DTSTAMP:20260423T124218Z
URL:https://business.elkhornchamber.com/events/details/elkhorn-rotary-wine-beer-food-expo-4658
END:VEVENT

END:VCALENDAR
