BEGIN:VCALENDAR
VERSION:2.0
PRODID:-//ChamberMaster//Event Calendar 2.0//EN
METHOD:PUBLISH
X-PUBLISHED-TTL:P3D
REFRESH-INTERVAL:P3D
CALSCALE:GREGORIAN
BEGIN:VEVENT
DTSTART:20160129T230000Z
DTEND:20160130T020000Z
X-MICROSOFT-CDO-ALLDAYEVENT:FALSE
SUMMARY:Elkhorn Rotary WINE BEER & FOOD EXPO
DESCRIPTION:The Elkhorn Rotary Club will be hosting their 7th Annual Wine Beer & Food Expo located at the Monte Carlo Room in Elkhorn\, WI.  Your price includes admission\, 10 taste samplings\, silent auction and hors d'oeuvres. Additional taste samplings can be purchased for $1 each after admission. Join us for another wonderful year of great food and great people coming together.
X-ALT-DESC;FMTTYPE=text/html:The Elkhorn Rotary Club will be hosting their 7th Annual Wine Beer &amp\; Food Expo located at the Monte Carlo Room in Elkhorn\, WI.&nbsp\; Your price includes admission\, 10 taste samplings\, silent auction and hors d&#39\;oeuvres. Additional taste samplings can be purchased for $1 each after admission. Join us for another wonderful year of great food and great people coming together.
LOCATION:Monte Carlo Room 720 N. Wisconsin St Elkhorn\, Wi 53121
UID:e.2059.1854
SEQUENCE:3
DTSTAMP:20260424T080844Z
URL:https://business.elkhornchamber.com/events/details/elkhorn-rotary-wine-beer-food-expo-01-29-2016-1854
END:VEVENT

END:VCALENDAR
