BEGIN:VCALENDAR
VERSION:2.0
PRODID:-//ChamberMaster//Event Calendar 2.0//EN
METHOD:PUBLISH
X-PUBLISHED-TTL:P3D
REFRESH-INTERVAL:P3D
CALSCALE:GREGORIAN
BEGIN:VEVENT
DTSTART:20170714T160000Z
DTEND:20170717T040000Z
X-MICROSOFT-CDO-ALLDAYEVENT:FALSE
SUMMARY:Elkhorn RibFest
DESCRIPTION:Enjoy the Largest BBQ Festival in Wisconsin!  Elkhorn Ribfest is celebrating its 2nd year of good food\, good music and good times. Admission and parking are free.  Over 40\,000 visitors are expected this year to get a taste of the best BBQ in the nation.  Professional BBQ companies from as far away as Australia and Jamaica compete for your vote for the Ribfest trophy.  Live music will entertain you from noon to 11:00pm on Friday July 14 and Saturday July 15 and from noon to 7:00pm on Sunday July 16.  New this year is the addition of carnival rides for the young and old along with a craft artisan village and a trade show featuring everything from hot tubs to motorcycles.  A community division BBQ competition will take place on Sunday July 16.  Amatuer  backyard chefs will compete against each other for the best ribs.  Judging will be done by professional BBQ chefs.     Anyone interested in competing\, exhibiting or needing more information should go to www.walworthcountyfair.com or email office@walworthcountyfair.com.  You can find the event on Facebook at https://www.facebook.com/events/1053562031399610/
X-ALT-DESC;FMTTYPE=text/html:<font face="arial" size="5"><span style="color: #000000\; font-family: calibri\, sans-serif\;"><span style="font-size: 14.6667px\;">Enjoy the Largest BBQ Festival in Wisconsin!&nbsp\; Elkhorn Ribfest is celebrating its 2nd year of good food\, good music and good times. Admission and parking are free.&nbsp\; Over 40\,000 visitors are expected this year to get a taste of the best BBQ in the nation.&nbsp\; Professional BBQ companies from as far away as Australia and Jamaica compete for your vote for the Ribfest trophy.&nbsp\; Live music will entertain you from noon to 11:00pm on Friday July 14 and Saturday July 15 and from noon to 7:00pm on Sunday July 16.&nbsp\; New this year is the addition of carnival rides for the young and old along with a craft artisan village and a trade show featuring everything from hot tubs to motorcycles.&nbsp\; A community division BBQ competition will take place on Sunday July 16.&nbsp\; Amatuer &nbsp\;backyard chefs will compete against each other for the best ribs.&nbsp\; Judging will be done by professional BBQ chefs. &nbsp\; &nbsp\; Anyone interested in competing\, exhibiting or needing more information should go to <a href="http://www.walworthcountyfair.com" target="_blank" title="This external link will open in a new window">www.walworthcountyfair.com</a> or email <a _bcc="" _body="" _cc="" _subject="" _to="office@walworthcountyfair.com">office@walworthcountyfair.com</a>.&nbsp\; You can find the event on Facebook at <a href="https://www.facebook.com/events/1053562031399610/" target="_blank" title="This external link will open in a new window">https://www.facebook.com/events/1053562031399610/</a></span></span></font>
LOCATION:Walworth County Fairgrounds 411 E. Court Street (Highway 11) Elkhorn\, WI 53121
UID:e.2059.4701
SEQUENCE:3
DTSTAMP:20260423T010922Z
URL:https://business.elkhornchamber.com/events/details/elkhorn-ribfest-4701
END:VEVENT

END:VCALENDAR
