BEGIN:VCALENDAR
VERSION:2.0
PRODID:-//ChamberMaster//Event Calendar 2.0//EN
METHOD:PUBLISH
X-PUBLISHED-TTL:P3D
REFRESH-INTERVAL:P3D
CALSCALE:GREGORIAN
BEGIN:VEVENT
DTSTART:20160514T150000Z
DTEND:20160514T220000Z
X-MICROSOFT-CDO-ALLDAYEVENT:FALSE
SUMMARY:Elkhorn Open House ~ Connect Communities
DESCRIPTION:Mark your calendar for Saturday\, May 14\, 2016 from 10:00 am - 5:00 pm to celebrate ELKHORN OPEN HOUSE.  This statewide event is coordinated by WEDA to highlight unique assets of small rural wisconsin communities\, the goal is to engage the local community and increase visitor traffic during a spring weekend.  for additional information on ELKHORN OPEN HOUSE visit walworthbusines.com/connectcommunities.  If you'd like to take part in the Elkhorn Connect Communities please email us at elkhornbusiness.com
X-ALT-DESC;FMTTYPE=text/html:Mark your calendar for Saturday\, May 14\, 2016 from 10:00 am - 5:00 pm to celebrate ELKHORN OPEN HOUSE. &nbsp\;This statewide event is coordinated by WEDA to highlight unique assets of small rural wisconsin communities\, the goal is to engage the local community and increase visitor traffic during a spring weekend. &nbsp\;for additional information on ELKHORN OPEN HOUSE visit walworthbusines.com/connectcommunities. &nbsp\;If you&#39\;d like to take part in the Elkhorn Connect Communities please email us at elkhornbusiness.com<br />\n&nbsp\;
LOCATION:Downtown Elkhorn Locations include EASD 1887 Building\; Friends on the Square\, Uncle Hunk Junk Building/ Elkhorn Area Chamber of Commerce Building\, Holton Manor House\, St. Pat's Church & Masonic Temple Building.
UID:e.2059.2923
SEQUENCE:3
DTSTAMP:20260424T012043Z
URL:https://business.elkhornchamber.com/events/details/elkhorn-open-house-connect-communities-05-14-2016-2923
END:VEVENT

END:VCALENDAR
