BEGIN:VCALENDAR
VERSION:2.0
PRODID:-//ChamberMaster//Event Calendar 2.0//EN
METHOD:PUBLISH
X-PUBLISHED-TTL:P3D
REFRESH-INTERVAL:P3D
CALSCALE:GREGORIAN
BEGIN:VEVENT
DTSTART:20180630T160000Z
DTEND:20180630T160000Z
X-MICROSOFT-CDO-ALLDAYEVENT:FALSE
SUMMARY:Elkhorn Mole Fest
DESCRIPTION:Elkhorn Mole Fest  A Mexican Food and Music Festival!\n\n(English description below\, click "see more" and scroll down)\n\n\n\n Entrada Gratuita\, Estacionamiento Gratis! Elkhorn\, WI. Por primera vez en Wisconsin llega el Elkhorn Mole Fest\, el cual es un festival 100% MEXICANO lleno de buena m sica Regional Mexicana\, Juegos y actividades para los ni os\, Y MUCHO MOLE!\n\n\n\nTambien disfruta de diferentes platillos de comida Mexicana ques estaran disponibles durante el festival\; pero aseg rate de probar los 7 tipos de Mole\, ya que son de las recetas m s preciadas y resguardadas para muchas de las familias y restaurantes mexicanos! El mole es una salsa tradicional mexicana hecha t picamente de chiles\, especias\, nueDces\, chocolate y diversos condimentos. La versi n m s cl sica de mole es una salsa de color rojo oscuro o marr n que generalmente se sirve en varios tipos de carnes o enchiladas.\n\nVen en familia para divertirte con todas las actividades que Mole Fest te trae para ti.  Tal como m sica en vivo\, arte y juegos mec nicos para los ni os!\n\n Ven a celebrar la maravillosa m sica\, comida y herencia de M xico en familia!  Hay diversi n para todos!\n\nPatrocinado por 97.9FM & 1460AM Radio Caliente y Cerveza Modelo.\n\nProduce L.A. Entertainment\n\n\n\nFree Admission\, Free Parking! Elkhorn Mole (pronounced Moe-le) Fest is a Mexican Food and Music Festival and Mole' Competition with Good Food\, Good Music\, and Good Fun.\n\n\n\nAdditionally\, enjoy ALL KINDS of Mexican food which will also be available throughout the festival\; but make sure you try all the 7 types of Mole sauces as they are the most prized recipes of almost every Mexican family and restaurants. Mole is a traditional Mexican sauce typically made of chili peppers\, spices\, nuts\, chocolate\, and various seasonings. The most classical mole version is a dark red or brown sauce which is generally served over various types of meats or enchiladas. Mole is a special occasion staple in most Mexican households. Who has the best? You decide. Carnival rides for the kid in everyone\, art village\, cultural activities. Celebrate the wonderful music and heritage of Mexico! Fun for everyone.\n\nSponsored by 97.9 FM Radio Caliente\, Modelo Beer.\n\nProduced by L.A. Entertainment\n\n\n\nAll Food Vendors and Commercial Vendors must call the Walworth County Fairgrounds at 262-723-3228.\n\nAll Craft and Artisan Vendors call the Elkhorn Chamber with questions at 262-723-5788.\n\nDownload your Elkhorn Mole Fest Craft/Vendor Application by Clicking Here
X-ALT-DESC;FMTTYPE=text/html:Elkhorn Mole Fest&nbsp\; A Mexican Food and Music Festival!<br />\n<span>(English description below\, click &quot\;see more&quot\; and scroll down)<br />\n<br />\n&iexcl\;Entrada Gratuita\, Estacionamiento Gratis! Elkhorn\, WI. Por primera vez en Wisconsin llega el Elkhorn Mole Fest\, el cual es un festival 100% MEXICANO lleno de buena m&uacute\;sica Regional Mexicana\, Juegos y actividades para los ni&ntilde\;os\, Y MUCHO MOLE!<br />\n<br />\nTambien disfruta de diferentes platillos de comida Mexicana ques estaran disponibles durante el festival\; pero aseg&uacute\;rate de probar los 7 tipos de Mole\, ya que son de las recetas m&aacute\;s preciadas y resguardadas para muchas de las familias y restaurantes mexicanos! El mole es una salsa tradicional mexicana hecha t&iacute\;picamente de chiles\, especias\, nueDces\, chocolate y diversos condimentos. La versi&oacute\;n m&aacute\;s cl&aacute\;sica de mole es una salsa de color rojo oscuro o marr&oacute\;n que generalmente se sirve en varios tipos de carnes o enchiladas.<br />\nVen en familia para divertirte con todas las actividades que Mole Fest te trae para ti. &iexcl\;Tal como m&uacute\;sica en vivo\, arte y juegos mec&aacute\;nicos para los ni&ntilde\;os!<br />\n&iexcl\;Ven a celebrar la maravillosa m&uacute\;sica\, comida y herencia de M&eacute\;xico en familia! &iexcl\;Hay diversi&oacute\;n para todos!<br />\nPatrocinado por 97.9FM &amp\; 1460AM Radio Caliente y Cerveza Modelo.<br />\nProduce L.A. Entertainment<br />\n<br />\nFree Admission\, Free Parking! Elkhorn Mole (pronounced Moe-le) Fest is a Mexican Food and Music Festival and Mole&#39\; Competition with Good Food\, Good Music\, and Good Fun.<br />\n<br />\nAdditionally\, enjoy ALL KINDS of Mexican food which will also be available throughout the festival\; but make sure you try all the 7 types of Mole sauces as they are the most prized recipes of almost every Mexican family and restaurants. Mole is a traditional Mexican sauce typically made of chili peppers\, spices\, nuts\, chocolate\, and various seasonings. The most classical mole version is a dark red or brown sauce which is generally served over various types of meats or enchiladas. Mole is a special occasion staple in most Mexican households. Who has the best? You decide. Carnival rides for the kid in everyone\, art village\, cultural activities. Celebrate the wonderful music and heritage of Mexico! Fun for everyone.<br />\nSponsored by 97.9 FM Radio Caliente\, Modelo Beer.<br />\nProduced by L.A. Entertainment</span><br />\n<br />\nAll Food Vendors and Commercial Vendors must call the Walworth County Fairgrounds at 262-723-3228.<br />\nAll Craft and Artisan Vendors call the Elkhorn Chamber with questions at 262-723-5788.<br />\n<a href="https://chambermaster.blob.core.windows.net/userfiles/UserFiles/chambers/2059/File/2018ElkhornMoleFestivalArtisanAlleyVendorApplication.pdf">Download your Elkhorn Mole Fest Craft/Vendor Application by Clicking Here</a>
LOCATION:Walwworth County Fair Grounds 411 Court Street Elkhorn\, WI
UID:e.2059.8762
SEQUENCE:3
DTSTAMP:20260422T072956Z
URL:https://business.elkhornchamber.com/events/details/elkhorn-mole-fest-06-30-2018-8762
END:VEVENT

END:VCALENDAR
