BEGIN:VCALENDAR
VERSION:2.0
PRODID:-//ChamberMaster//Event Calendar 2.0//EN
METHOD:PUBLISH
X-PUBLISHED-TTL:P3D
REFRESH-INTERVAL:P3D
CALSCALE:GREGORIAN
BEGIN:VEVENT
DTSTART:20170525T150000Z
DTEND:20170525T163000Z
X-MICROSOFT-CDO-ALLDAYEVENT:FALSE
SUMMARY:Elkhorn Memory Cafe
DESCRIPTION:A memory cafe is a place where people with MCI (Mild Cognitive Impairment)\, early stage Alzheimer's or related dementia\, can go with their care partners to socialize and have fun with other people going through similar things. A Memory Cafe has no real agenda or stated purposes except to enjoy each other's company. Cafes provide a time where you do not need to focus on the diagnosis\, while having a great time connecting with each other as a family or creating new friendships.
X-ALT-DESC;FMTTYPE=text/html:A memory cafe is a place where people with MCI (Mild Cognitive Impairment)\, early stage Alzheimer&#39\;s or related dementia\, can go with their care partners to socialize and have fun with other people going through similar things. A Memory Cafe has no real agenda or stated purposes except to enjoy each other&#39\;s company. Cafes provide a time where you do not need to focus on the diagnosis\, while having a great time connecting with each other as a family or creating new friendships.
LOCATION:Matheson Memorial Library 101 N. Wisconsin Street Elkhorn\, WI 53147
UID:e.2059.4684
SEQUENCE:3
DTSTAMP:20260423T074307Z
URL:https://business.elkhornchamber.com/events/details/elkhorn-memory-cafe-05-25-2017-4684
END:VEVENT

END:VCALENDAR
