BEGIN:VCALENDAR
VERSION:2.0
PRODID:-//ChamberMaster//Event Calendar 2.0//EN
METHOD:PUBLISH
X-PUBLISHED-TTL:P3D
REFRESH-INTERVAL:P3D
CALSCALE:GREGORIAN
BEGIN:VEVENT
DTSTART:20170323T150000Z
DTEND:20170323T163000Z
X-MICROSOFT-CDO-ALLDAYEVENT:FALSE
SUMMARY:Elkhorn Memory Cafe
DESCRIPTION:A memory cafe is a place where people with MCI (Mild Cognitive Impairment)\, early stage Alzheimer's or related dementia\, can go with their care partners to socialize and have fun with other people going through similar things. A Memory Cafe has no real agenda or stated purposes except to enjoy each other's company. Cafes provide a time where you do not need to focus on the diagnosis\, while having a great time connecting with each other as a family or creating new friendships.
X-ALT-DESC;FMTTYPE=text/html:A memory cafe is a place where people with MCI (Mild Cognitive Impairment)\, early stage Alzheimer&#39\;s or related dementia\, can go with their care partners to socialize and have fun with other people going through similar things. A Memory Cafe has no real agenda or stated purposes except to enjoy each other&#39\;s company. Cafes provide a time where you do not need to focus on the diagnosis\, while having a great time connecting with each other as a family or creating new friendships.
LOCATION:Matheson Memorial Library 101 N. Wisconsin Street Elkhorn\, WI 53147 March 23rd Location will be at the Peoples Bank in Elkhorn\, 37 N. Wisconsin Street
UID:e.2059.4682
SEQUENCE:3
DTSTAMP:20260423T093236Z
URL:https://business.elkhornchamber.com/events/details/elkhorn-memory-cafe-03-23-2017-4682
END:VEVENT

END:VCALENDAR
