BEGIN:VCALENDAR
VERSION:2.0
PRODID:-//ChamberMaster//Event Calendar 2.0//EN
METHOD:PUBLISH
X-PUBLISHED-TTL:P3D
REFRESH-INTERVAL:P3D
CALSCALE:GREGORIAN
BEGIN:VEVENT
DTSTART:20200126T170000Z
DTEND:20200127T000000Z
X-MICROSOFT-CDO-ALLDAYEVENT:FALSE
SUMMARY:Elkhorn Lions Club Annual All You Can Eat Roast Beef & Chicken Dinner
DESCRIPTION:Elkhorn Lions Club Annual ALL YOU CAN EAT Roast Beef & Chicken Dinner\n\nSunday\, January 26\, 2020\n\nServing from 11:00am until 6:00pm\n\nMenu: Roast Beef\, Baked Chicken\, Mashed Potatoes\, Gravy\, Cole Slaw\, Vegetable\, Rolls and Beverages\n\n\n\nBake Sale & Raffles\n\nAdvance Tickets are available from :\n\nAll Elkhorn Lions Members\n\nFirst National Bank/Lion Marlene Schoenbeck- 743-2223 Ext. 1700\n\nTibbets School/Lion Greg Wells - 742-2585\n\nAXA Advisors/ Lion Javan Wehmeir 723-6278\n\nDr. John E. Hall 723-2234\n\nLion Dick Gilkey 723-4421\n\nSperino's / Pepperoni Pub\n\nLion Mark Enger 723-6221\n\nAdvia Credit Union\n\nElkhorn Chamber of Commerce
X-ALT-DESC;FMTTYPE=text/html:Elkhorn Lions Club Annual ALL YOU CAN EAT Roast Beef &amp\; Chicken Dinner<br />\nSunday\, January 26\, 2020<br />\nServing from 11:00am until 6:00pm<br />\nMenu: Roast Beef\, Baked Chicken\, Mashed Potatoes\, Gravy\, Cole Slaw\, Vegetable\, Rolls and Beverages<br />\n<br />\nBake Sale &amp\; Raffles<br />\nAdvance Tickets are available from :<br />\nAll Elkhorn Lions Members<br />\nFirst National Bank/Lion Marlene Schoenbeck- 743-2223 Ext. 1700<br />\nTibbets School/Lion Greg Wells - 742-2585<br />\nAXA Advisors/ Lion Javan Wehmeir 723-6278<br />\nDr. John E. Hall 723-2234<br />\nLion Dick Gilkey 723-4421<br />\nSperino&#39\;s / Pepperoni Pub<br />\nLion Mark Enger 723-6221<br />\nAdvia Credit Union<br />\nElkhorn Chamber of Commerce<br />\n&nbsp\;
LOCATION:The Monte Carlo Room 720 N. Wisconsin Street Elkhorn\, WI 53121
UID:e.2059.10827
SEQUENCE:3
DTSTAMP:20260419T183449Z
URL:https://business.elkhornchamber.com/events/details/elkhorn-lions-club-annual-all-you-can-eat-roast-beef-chicken-dinner-10827
END:VEVENT

END:VCALENDAR
