BEGIN:VCALENDAR
VERSION:2.0
PRODID:-//ChamberMaster//Event Calendar 2.0//EN
METHOD:PUBLISH
X-PUBLISHED-TTL:P3D
REFRESH-INTERVAL:P3D
CALSCALE:GREGORIAN
BEGIN:VEVENT
DTSTART;VALUE=DATE:20160805
DTEND;VALUE=DATE:20160807
TRANSP:TRANSPARENT
X-MICROSOFT-CDO-ALLDAYEVENT:TRUE
SUMMARY:Elkhorn Library Book & Bake Sale
DESCRIPTION:Friends of Matheson Memorial Library Summer Book & Bake Sale. Fill a brown paper bag with gently used books and movies for only $5.00!!! Delicious baked goodies will also be available for purchase.
X-ALT-DESC;FMTTYPE=text/html:Friends of Matheson Memorial Library Summer Book &amp\; Bake Sale. Fill a brown paper bag with gently used books and movies for only $5.00!!! Delicious baked goodies will also be available for purchase.
LOCATION:Matheson Memorial Library 101 N. Wisconsin Street Elkhorn\, WI 53121
UID:e.2059.3441
SEQUENCE:3
DTSTAMP:20260423T204956Z
URL:https://business.elkhornchamber.com/events/details/elkhorn-library-book-bake-sale-08-05-2016-3441
END:VEVENT

END:VCALENDAR
