BEGIN:VCALENDAR
VERSION:2.0
PRODID:-//ChamberMaster//Event Calendar 2.0//EN
METHOD:PUBLISH
X-PUBLISHED-TTL:P3D
REFRESH-INTERVAL:P3D
CALSCALE:GREGORIAN
BEGIN:VEVENT
DTSTART:20170322T210000Z
DTEND:20170322T230000Z
X-MICROSOFT-CDO-ALLDAYEVENT:FALSE
SUMMARY:Elkhorn Informational Meeting- Street Construction
DESCRIPTION:The City of Elkhorn awarded the S. Jackson Street Reconstruction Project contract to Townsend COnstruction\, Inc. Kapur & Associates is the City Engineer and will be providing construction management services for this project. This is to inform and update you in regards to the project as well as invite you to an Open-House style Public Informational Meeting.\n\nWork is expected to begin mid-April\, weather dependent\, with substantial completion estimated to be mid-September. Wyatt Ploetz will be managing the project on the City's behalf\, and you may contact Wyatt at 262-758-6005.
X-ALT-DESC;FMTTYPE=text/html:The City of Elkhorn awarded the S. Jackson Street Reconstruction Project contract to Townsend COnstruction\, Inc. Kapur &amp\; Associates is the City Engineer and will be providing construction management services for this project. This is to inform and update you in regards to the project as well as invite you to an Open-House style Public Informational Meeting.<br />\nWork is expected to begin mid-April\, weather dependent\, with substantial completion estimated to be mid-September. Wyatt Ploetz will be managing the project on the City&#39\;s behalf\, and you may contact Wyatt at 262-758-6005.
LOCATION:Matheson Memorial Library 101 N. Wisconsin Street Elkhorn\, WI
UID:e.2059.4763
SEQUENCE:3
DTSTAMP:20260423T094223Z
URL:https://business.elkhornchamber.com/events/details/elkhorn-informational-meeting-street-construction-4763
END:VEVENT

END:VCALENDAR
