BEGIN:VCALENDAR
VERSION:2.0
PRODID:-//ChamberMaster//Event Calendar 2.0//EN
METHOD:PUBLISH
X-PUBLISHED-TTL:P3D
REFRESH-INTERVAL:P3D
CALSCALE:GREGORIAN
BEGIN:VEVENT
DTSTART:20150208T020000Z
DTEND:20150208T050000Z
X-MICROSOFT-CDO-ALLDAYEVENT:FALSE
SUMMARY:Elkhorn Grand Ballrom Dance
DESCRIPTION:Join us for a ballroom dance night of the Quick Step\, Foxtrot\, Waltz and more. This is the perfect time to practice the steps you've been learning with Richard & Virginia. No need to be a current student of ballroom dance\, but experience would be helpful. Refreshments will be served.
X-ALT-DESC;FMTTYPE=text/html:Join us for a ballroom dance night of the Quick Step\, Foxtrot\, Waltz and more. This is the perfect time to practice the steps you&rsquo\;ve been learning with Richard &amp\; Virginia. No need to be a current student of ballroom dance\, but experience would be helpful. Refreshments will be served.
LOCATION:Elkhorn High School Varsity Gym 482 E. Geneva St.\, Elkhorn
UID:e.2059.844
SEQUENCE:3
DTSTAMP:20260425T022949Z
URL:https://business.elkhornchamber.com/events/details/elkhorn-grand-ballrom-dance-02-07-2015-844
END:VEVENT

END:VCALENDAR
