BEGIN:VCALENDAR
VERSION:2.0
PRODID:-//ChamberMaster//Event Calendar 2.0//EN
METHOD:PUBLISH
X-PUBLISHED-TTL:P3D
REFRESH-INTERVAL:P3D
CALSCALE:GREGORIAN
BEGIN:VEVENT
DTSTART:20191210T010000Z
DTEND:20191210T020000Z
X-MICROSOFT-CDO-ALLDAYEVENT:FALSE
SUMMARY:Elkhorn FFA Alumni Quilt Raffle
DESCRIPTION:Elkhorn FFA Alumni Quilt Raffle\, Drawing on December 9\, 2019 at 7 pm at the Elkhorn Area High School Ag Room
X-ALT-DESC;FMTTYPE=text/html:Elkhorn FFA Alumni Quilt Raffle\, Drawing on December 9\, 2019 at 7 pm at the Elkhorn Area High School Ag Room
LOCATION:Drawing at Elkhorn Area High School Ag Room
UID:e.2059.11188
SEQUENCE:3
DTSTAMP:20260419T232158Z
URL:https://business.elkhornchamber.com/events/details/elkhorn-ffa-alumni-quilt-raffle-11188
END:VEVENT

END:VCALENDAR
